BEGIN:VCALENDAR
VERSION:2.0
PRODID:-//Auctions-Estates v1//EN
BEGIN:VEVENT
DTSTAMP:20260421T115711Z
STATUS:CONFIRMED
UID:5691d80d236eb5077fe7b811cc8c9be7@Auctions-Estates
DTSTART:20260501T220000Z
DTEND:20260501T230000Z
SUMMARY:Friday Night Auction - Bud Palmer Auction
DESCRIPTION:Camping, Guns, Mower, Furniture, Appliances, Tools, Housewares
  https://www.auctions-estates.com/calendar/palmer/70328/
LOCATION:101 W 29th St N Wichita, KS
TRANSP:OPAQUE
END:VEVENT
END:VCALENDAR