BEGIN:VCALENDAR
VERSION:2.0
PRODID:-//Auctions-Estates v1//EN
BEGIN:VEVENT
DTSTAMP:20260421T115621Z
STATUS:CONFIRMED
UID:060dbaa9b146760f62244ff8e3a5ea43@Auctions-Estates
DTSTART:20260502T150000Z
DTEND:20260502T160000Z
SUMMARY:Live Auction - J&D Auction & Sales, LLC
DESCRIPTION:JD Tractor w/ Loader, Trailer, Silver Morgans / Peace / Half
  Dollars, Paper Money, Furniture, Antique Furniture, Antiques &
  Collectibles, Hand Tools & Power Tools, Garden Tillers, Dog Pen / Kennel,
  Household, Paintings & Pictures, Appliances, 4-Wheeler, Single Axle Trailer
  w/ Folding Ramps, Outdoor Items, Lots More
  https://www.auctions-estates.com/calendar/jd/70329/
LOCATION:1739 Rd F Emporia, KS
TRANSP:OPAQUE
END:VEVENT
END:VCALENDAR