BEGIN:VCALENDAR
VERSION:2.0
PRODID:-//Auctions-Estates v1//EN
BEGIN:VEVENT
DTSTAMP:20260421T104346Z
STATUS:CONFIRMED
UID:84621f87cdcf3fbc2926f10f146274ea@Auctions-Estates
DTSTART:20260503T143000Z
DTEND:20260503T153000Z
SUMMARY:Public Auction - Kooser Auction Service
DESCRIPTION:Guns, Household, Mowers, Tools & Misc.
  https://www.auctions-estates.com/calendar/kooser/70332/
LOCATION:6024 S E Stubbs Rd Tecumseh, KS
TRANSP:OPAQUE
END:VEVENT
END:VCALENDAR