BEGIN:VCALENDAR
VERSION:2.0
PRODID:-//Auctions-Estates v1//EN
BEGIN:VEVENT
DTSTAMP:20260421T093740Z
STATUS:CONFIRMED
UID:80f76ca4c359c55fd615ae49cf42209d@Auctions-Estates
DTSTART:20260509T150000Z
DTEND:20260509T160000Z
SUMMARY:Public Auction - Hallgren Real Estate & Auctions LLC
DESCRIPTION:Tools, Warehouse, Office Items & Misc.
  https://www.auctions-estates.com/calendar/hallgren/70333/
LOCATION:120 Liberty St Council Grove, KS
TRANSP:OPAQUE
END:VEVENT
END:VCALENDAR