BEGIN:VCALENDAR
VERSION:2.0
PRODID:-//Auctions-Estates v1//EN
BEGIN:VEVENT
DTSTAMP:20260421T094712Z
STATUS:CONFIRMED
UID:0cde2babbf83036f7eb6d4e6bb897b36@Auctions-Estates
DTSTART:20260502T140000Z
DTEND:20260502T150000Z
SUMMARY:Personal Property Auction - SunGroup Real Estate
DESCRIPTION:Newsprint, Woodworking, Antiques & Collectibles, Tools & Misc.
  https://www.auctions-estates.com/calendar/sungroup/70337/
LOCATION:406 N 7th St Fredonia, KS
TRANSP:OPAQUE
END:VEVENT
END:VCALENDAR