BEGIN:VCALENDAR
VERSION:2.0
PRODID:-//Auctions-Estates v1//EN
BEGIN:VEVENT
DTSTAMP:20260421T105324Z
STATUS:CONFIRMED
UID:253a51e878ab87e0def1d98de81e7340@Auctions-Estates
DTSTART:20260506T150000Z
DTEND:20260506T160000Z
SUMMARY:Farm Auction - Sell It Now Store
DESCRIPTION:DONAHUE ESTATE NO RESERVE FARM AUCTION: Late Model John Deere
  Tractors, Trucks, Equipment, Implements & Tools
  https://www.auctions-estates.com/calendar/sellitnowstore/70338/
LOCATION:815 310th St Durham, KS
TRANSP:OPAQUE
END:VEVENT
END:VCALENDAR