BEGIN:VCALENDAR
VERSION:2.0
PRODID:-//Auctions-Estates v1//EN
BEGIN:VEVENT
DTSTAMP:20260421T163142Z
STATUS:CONFIRMED
UID:4f6a55c2bb4d78f81724fe4be16d832c@Auctions-Estates
DTSTART:20260428T233000Z
DTEND:20260429T003000Z
SUMMARY:Online Auction - Mayo Auction & Realty
DESCRIPTION:Bad Boy Takeover: Toys, Tools, And Treasures Auction
  https://www.auctions-estates.com/calendar/mayo/70339/
LOCATION:824 N Scott Ave Belton, MO
TRANSP:OPAQUE
END:VEVENT
END:VCALENDAR