BEGIN:VCALENDAR
VERSION:2.0
PRODID:-//Auctions-Estates v1//EN
BEGIN:VEVENT
DTSTAMP:20260421T161729Z
STATUS:CONFIRMED
UID:3d19c41dcaf0108c9c2284246ae7272a@Auctions-Estates
DTSTART:20260429T233000Z
DTEND:20260430T003000Z
SUMMARY:Online Auction - Mayo Auction & Realty
DESCRIPTION:KC Wood Custom Cabinet Maker Equipment Auction
  https://www.auctions-estates.com/calendar/mayo/70340/
LOCATION:10651 Kaw Dr Edwardsville, KS
TRANSP:OPAQUE
END:VEVENT
END:VCALENDAR