BEGIN:VCALENDAR
VERSION:2.0
PRODID:-//Auctions-Estates v1//EN
BEGIN:VEVENT
DTSTAMP:20260421T130240Z
STATUS:CONFIRMED
UID:f6e938d2d8c1ea52e155a0f847ba2ba2@Auctions-Estates
DTSTART:20260430T233000Z
DTEND:20260501T003000Z
SUMMARY:Online Auction - Mayo Auction & Realty
DESCRIPTION:Rock & Roll Relics Guitar Auction
  https://www.auctions-estates.com/calendar/mayo/70341/
LOCATION:824 N Scott Ave Belton, MO
TRANSP:OPAQUE
END:VEVENT
END:VCALENDAR