BEGIN:VCALENDAR
VERSION:2.0
PRODID:-//Auctions-Estates v1//EN
BEGIN:VEVENT
DTSTAMP:20260421T115656Z
STATUS:CONFIRMED
UID:4ca8f68019b32357d6841c2f458fbc5d@Auctions-Estates
DTSTART:20260522T000700Z
DTEND:20260522T010700Z
SUMMARY:Real Estate Auction - Mayo Auction & Realty
DESCRIPTION:Carriage Hills 4 Bedroom Dream Home
  https://www.auctions-estates.com/calendar/mayo/70342/
LOCATION:6201 N Kensington Ct Kansas City, MO
TRANSP:OPAQUE
END:VEVENT
END:VCALENDAR