BEGIN:VCALENDAR
VERSION:2.0
PRODID:-//Auctions-Estates v1//EN
BEGIN:VEVENT
DTSTAMP:20260421T130320Z
STATUS:CONFIRMED
UID:4743f9e6aabd72e765759dc6fb9d2380@Auctions-Estates
DTSTART:20260426T180000Z
DTEND:20260426T190000Z
SUMMARY:Estate Auction - Hudson Auction
DESCRIPTION:Drone, Ammo, Scopes, Camp Chef Grill, Camp Stoves, Camping
  Gear, Lawn Chairs, Wofgang Puck Cookware, Tools, 10x10 Canopy, Motorcycle
  Helmets, Sewing Machines, Projector, Much More!
  https://www.auctions-estates.com/calendar/bhudson/70344/
LOCATION:2009 N Mosley Wichita, KS
TRANSP:OPAQUE
END:VEVENT
END:VCALENDAR