BEGIN:VCALENDAR
VERSION:2.0
PRODID:-//Auctions-Estates v1//EN
BEGIN:VEVENT
DTSTAMP:20260421T134121Z
STATUS:CONFIRMED
UID:ae8075b087caf5acda3bffadb8cc41f3@Auctions-Estates
DTSTART:20260425T140000Z
DTEND:20260425T150000Z
SUMMARY:Public Auction - Van Schmidt, Auctioneer & Realtor
DESCRIPTION:Tractor, Vehicles, Shop Equip., Household & Furniture
  https://www.auctions-estates.com/calendar/schmidt/70349/
LOCATION:1996 Buckskin Rd Moundridge, KS
TRANSP:OPAQUE
END:VEVENT
END:VCALENDAR