BEGIN:VCALENDAR
VERSION:2.0
PRODID:-//Auctions-Estates v1//EN
BEGIN:VEVENT
DTSTAMP:20260421T130159Z
STATUS:CONFIRMED
UID:f5161a7d422212476769894a28562385@Auctions-Estates
DTSTART:20260424T150000Z
DTEND:20260424T160000Z
SUMMARY:Morstorf Estate Auction - S & S Sales LLC
DESCRIPTION:Hit & Miss Engines, Small Engines, Shop Items, Tractor Parts,
  Equipment, Farm Primitives, New Stuff
  https://www.auctions-estates.com/calendar/ss/70351/
LOCATION:511 Cochran Lebo, KS
TRANSP:OPAQUE
END:VEVENT
END:VCALENDAR