BEGIN:VCALENDAR
VERSION:2.0
PRODID:-//Auctions-Estates v1//EN
BEGIN:VEVENT
DTSTAMP:20260421T115611Z
STATUS:CONFIRMED
UID:7b28e51b78ab776d6cf469b2be2bb96d@Auctions-Estates
DTSTART:20260425T140000Z
DTEND:20260425T150000Z
SUMMARY:Real Estate, Household, Tool & Equipment Auction - Circle L Auction
  Service
DESCRIPTION:A Great Piece of Real Estate! Collector Cars, Vehicles, Tools
  of All Kinds, Plus Large Tool Boxes, Furniture, Guns, Car Dolly, Specialty
  Tools, Camping Items and A Whole Lot More to Be Sold!!
  https://www.auctions-estates.com/calendar/circlel/70352/
LOCATION:13144 Keene Rd Neosho, MO
TRANSP:OPAQUE
END:VEVENT
END:VCALENDAR