BEGIN:VCALENDAR
VERSION:2.0
PRODID:-//Auctions-Estates v1//EN
BEGIN:VEVENT
DTSTAMP:20260421T144859Z
STATUS:CONFIRMED
UID:cc33716cdc56d8001e53c5db15128f5c@Auctions-Estates
DTSTART:20260421T230000Z
DTEND:20260422T000000Z
SUMMARY:Online Auction - Dennis Wendt Auctioneer
DESCRIPTION:Boehm Die-Cast Collectible Tractors & Toys & JD Toys
  https://www.auctions-estates.com/calendar/wendt/70353/
LOCATION:30919 W 363rd St Osawatomie, KS
TRANSP:OPAQUE
END:VEVENT
END:VCALENDAR