BEGIN:VCALENDAR
VERSION:2.0
PRODID:-//Auctions-Estates v1//EN
BEGIN:VEVENT
DTSTAMP:20260421T130351Z
STATUS:CONFIRMED
UID:a4bfec0e617de1a81bfb6ff3c71af0d9@Auctions-Estates
DTSTART:20260422T230000Z
DTEND:20260423T000000Z
SUMMARY:Online Auction - Dennis Wendt Auctioneer
DESCRIPTION:Boehm Farm & Household Dispersal Auction
  https://www.auctions-estates.com/calendar/wendt/70354/
LOCATION:30919 W 363rd St Osawatomie, KS
TRANSP:OPAQUE
END:VEVENT
END:VCALENDAR