BEGIN:VCALENDAR
VERSION:2.0
PRODID:-//Auctions-Estates v1//EN
BEGIN:VEVENT
DTSTAMP:20260421T125126Z
STATUS:CONFIRMED
UID:b7b9111fb52b31f9ff7520ee36690527@Auctions-Estates
DTSTART:20260510T230000Z
DTEND:20260511T000000Z
SUMMARY:Cunningham Online Land Auction - Iman Auction Company
DESCRIPTION:TRACT 1: 39.6 Acres of open grasslands with heavy wooded draws;
  TRACT 2: 34.5 Acres of open grassland
  https://www.auctions-estates.com/calendar/imanauction/70356/
LOCATION:Higbee, MO
TRANSP:OPAQUE
END:VEVENT
END:VCALENDAR