BEGIN:VCALENDAR
VERSION:2.0
PRODID:-//Auctions-Estates v1//EN
BEGIN:VEVENT
DTSTAMP:20260421T130236Z
STATUS:CONFIRMED
UID:70fd79a6e3b33880bd0372b7d0d5a849@Auctions-Estates
DTSTART:20260423T150000Z
DTEND:20260423T160000Z
SUMMARY:Impound Auction - Kansas Impound Auctions
DESCRIPTION:Twisted Towing
  https://www.auctions-estates.com/calendar/ksimpound/70357/
LOCATION:3246 S Broadway Wichita, KS
TRANSP:OPAQUE
END:VEVENT
END:VCALENDAR