BEGIN:VCALENDAR
VERSION:2.0
PRODID:-//Auctions-Estates v1//EN
BEGIN:VEVENT
DTSTAMP:20260421T115742Z
STATUS:CONFIRMED
UID:53ea17ff07fb7d86d43567c67d7af9c5@Auctions-Estates
DTSTART:20260530T150000Z
DTEND:20260530T160000Z
SUMMARY:Public Auction - Kretz Auction Service
DESCRIPTION:Selling will be classic cars to restore, large collection of
  1937 U.S. license plates. coin collection, variety of tools, auto parts and
  other misc. items.
  https://www.auctions-estates.com/calendar/kretz/70358/
LOCATION:Clay Center, KS
TRANSP:OPAQUE
END:VEVENT
END:VCALENDAR