BEGIN:VCALENDAR
VERSION:2.0
PRODID:-//Auctions-Estates v1//EN
BEGIN:VEVENT
DTSTAMP:20260421T125546Z
STATUS:CONFIRMED
UID:ab0927060e95c1c55b355b4dd924f3ce@Auctions-Estates
DTSTART:20260509T150000Z
DTEND:20260509T160000Z
SUMMARY:Dispersal Auction - Larry Johnston Agency
DESCRIPTION:Parts, Tools, Car Parts
  https://www.auctions-estates.com/calendar/johnston/70359/
LOCATION:Dodge City, KS
TRANSP:OPAQUE
END:VEVENT
END:VCALENDAR