BEGIN:VCALENDAR
VERSION:2.0
PRODID:-//Auctions-Estates v1//EN
BEGIN:VEVENT
DTSTAMP:20260421T113530Z
STATUS:CONFIRMED
UID:3f278c6342cde80528485cc4fa8f173c@Auctions-Estates
DTSTART:20260613T140000Z
DTEND:20260613T150000Z
SUMMARY:Moving Auction - Larry Johnston Agency
DESCRIPTION:Moving Auction
  https://www.auctions-estates.com/calendar/johnston/70360/
LOCATION:Garden City, KS
TRANSP:OPAQUE
END:VEVENT
END:VCALENDAR