BEGIN:VCALENDAR
VERSION:2.0
PRODID:-//Auctions-Estates v1//EN
BEGIN:VEVENT
DTSTAMP:20260421T113553Z
STATUS:CONFIRMED
UID:fce3c2b6e1087935c6178aa2a8c88c3f@Auctions-Estates
DTSTART:20260627T140000Z
DTEND:20260627T150000Z
SUMMARY:Household Auction - Larry Johnston Agency
DESCRIPTION:Household Auction
  https://www.auctions-estates.com/calendar/johnston/70361/
LOCATION:Garden City, KS
TRANSP:OPAQUE
END:VEVENT
END:VCALENDAR