BEGIN:VCALENDAR
VERSION:2.0
PRODID:-//Auctions-Estates v1//EN
BEGIN:VEVENT
DTSTAMP:20260421T132707Z
STATUS:CONFIRMED
UID:c967bf5402ef8c6b55def86f5f0c7c03@Auctions-Estates
DTSTART:20260421T230000Z
DTEND:20260422T000000Z
SUMMARY:Antique Dealer Estate Auction - Legacy Auction Group
DESCRIPTION:Emergency Indoor Antique Dealer Estate Auction Part 1. Vonna
  Beeks Estate. Lifetime Collections of Antiques & Collectibles, Furniture,
  Dolls, Jewelry, Vintage, Home Decor, Household Goods, & Much More!
  https://www.auctions-estates.com/calendar/chapin/70362/
LOCATION:6805 Sobbie Rd Pleasant Valley, MO
TRANSP:OPAQUE
END:VEVENT
END:VCALENDAR