BEGIN:VCALENDAR
VERSION:2.0
PRODID:-//Auctions-Estates v1//EN
BEGIN:VEVENT
DTSTAMP:20260421T130118Z
STATUS:CONFIRMED
UID:4f08be09d3523cbf631f0da347b7d46c@Auctions-Estates
DTSTART:20260426T160000Z
DTEND:20260426T170000Z
SUMMARY:Huge Living Estate Farm Auction - Legacy Auction Group
DESCRIPTION:Mike & Arlene Casey Living Estate | Vehicles, UTV, Tractors,
  Farm Equipment, Guns, Collectibles, Coins, Jewelry, Furniture, Appliances,
  Outdoor Items, Tools, Home Decor, Household Goods, & Much More!
  https://www.auctions-estates.com/calendar/chapin/70363/
LOCATION:34701 E 155th St Pleasant Hill, MO
TRANSP:OPAQUE
END:VEVENT
END:VCALENDAR