BEGIN:VCALENDAR
VERSION:2.0
PRODID:-//Auctions-Estates v1//EN
BEGIN:VEVENT
DTSTAMP:20260421T113445Z
STATUS:CONFIRMED
UID:0d8a3ea681e3199980993b1b7b99c442@Auctions-Estates
DTSTART:20270419T180500Z
DTEND:20270419T190500Z
SUMMARY:Real Estate & Personal Property Auction - Legacy Auction Group
DESCRIPTION:Michael "Dean" Dachenhausen Estate | Fantastic, Historic West
  Plaza Home plus Vehicle, Antiques, Collectibles, Furniture, Art, Jewelry,
  Decorative Arts, Appliances, Home Decor, Household Goods, & Much More!
  https://www.auctions-estates.com/calendar/chapin/70364/
LOCATION:4130 Mercier St Kansas City, MO
TRANSP:OPAQUE
END:VEVENT
END:VCALENDAR