BEGIN:VCALENDAR
VERSION:2.0
PRODID:-//Auctions-Estates v1//EN
BEGIN:VEVENT
DTSTAMP:20260421T145011Z
STATUS:CONFIRMED
UID:f587e17cd487b55c1c1031a0df5e53c6@Auctions-Estates
DTSTART:20260426T220000Z
DTEND:20260426T230000Z
SUMMARY:Online Auction - Little Bull Auction & Sales Co.
DESCRIPTION:The Craftsman's Tools!
  https://www.auctions-estates.com/calendar/littlebull/70365/
LOCATION:Wichita, KS
TRANSP:OPAQUE
END:VEVENT
END:VCALENDAR