BEGIN:VCALENDAR
VERSION:2.0
PRODID:-//Auctions-Estates v1//EN
BEGIN:VEVENT
DTSTAMP:20260421T131003Z
STATUS:CONFIRMED
UID:fcbb8750cbdf98fb71ec4bacf717280a@Auctions-Estates
DTSTART:20260427T230500Z
DTEND:20260428T000500Z
SUMMARY:Online Auction - Little Bull Auction & Sales Co.
DESCRIPTION:The Amarado Estate on Caddy Lane
  https://www.auctions-estates.com/calendar/littlebull/70366/
LOCATION:Wichita, KS
TRANSP:OPAQUE
END:VEVENT
END:VCALENDAR