BEGIN:VCALENDAR
VERSION:2.0
PRODID:-//Auctions-Estates v1//EN
BEGIN:VEVENT
DTSTAMP:20260421T130953Z
STATUS:CONFIRMED
UID:74aeb1464a48ca0cc60b160da3e49624@Auctions-Estates
DTSTART:20260428T183000Z
DTEND:20260428T193000Z
SUMMARY:Online Auction - Little Bull Auction & Sales Co.
DESCRIPTION:Ingle's Liquidation Auction
  https://www.auctions-estates.com/calendar/littlebull/70367/
LOCATION:Wichita, KS
TRANSP:OPAQUE
END:VEVENT
END:VCALENDAR