BEGIN:VCALENDAR
VERSION:2.0
PRODID:-//Auctions-Estates v1//EN
BEGIN:VEVENT
DTSTAMP:20260421T144852Z
STATUS:CONFIRMED
UID:12f9c2f6e864fa74df68a72189cc11e5@Auctions-Estates
DTSTART:20260428T233000Z
DTEND:20260429T003000Z
SUMMARY:Online Auction - Little Bull Auction & Sales Co.
DESCRIPTION:Vintage Treasures & Collectibles Auction
  https://www.auctions-estates.com/calendar/littlebull/70368/
LOCATION:Augusta, KS
TRANSP:OPAQUE
END:VEVENT
END:VCALENDAR