BEGIN:VCALENDAR
VERSION:2.0
PRODID:-//Auctions-Estates v1//EN
BEGIN:VEVENT
DTSTAMP:20260421T162015Z
STATUS:CONFIRMED
UID:73446aa1ce3117e9776a0af5c0b7c7ec@Auctions-Estates
DTSTART:20260429T223000Z
DTEND:20260429T233000Z
SUMMARY:Online Auction - Little Bull Auction & Sales Co.
DESCRIPTION:Antiques & Vintage Glassware Extravaganza
  https://www.auctions-estates.com/calendar/littlebull/70369/
LOCATION:146 N 7th St Salina, KS
TRANSP:OPAQUE
END:VEVENT
END:VCALENDAR