BEGIN:VCALENDAR
VERSION:2.0
PRODID:-//Auctions-Estates v1//EN
BEGIN:VEVENT
DTSTAMP:20260421T144956Z
STATUS:CONFIRMED
UID:2a93526f6e5425d0cad99705ec82738e@Auctions-Estates
DTSTART:20260501T223000Z
DTEND:20260501T233000Z
SUMMARY:Online Auction - Little Bull Auction & Sales Co.
DESCRIPTION:Granny J’s Throwback Sale
  https://www.auctions-estates.com/calendar/littlebull/70370/
LOCATION:Chanute, KS
TRANSP:OPAQUE
END:VEVENT
END:VCALENDAR