BEGIN:VCALENDAR
VERSION:2.0
PRODID:-//Auctions-Estates v1//EN
BEGIN:VEVENT
DTSTAMP:20260421T130057Z
STATUS:CONFIRMED
UID:0e20c42287648cc70eea3d7b9e79c34a@Auctions-Estates
DTSTART:20260428T190000Z
DTEND:20260428T200000Z
SUMMARY:Antiques & Collectibles Auction - Sundgren Realty
DESCRIPTION:Estate of Craig Kobel: Guns, Antiques & Collectibles Auction #1
  https://www.auctions-estates.com/calendar/sundgren/70372/
LOCATION:El Dorado, KS
TRANSP:OPAQUE
END:VEVENT
END:VCALENDAR