BEGIN:VCALENDAR
VERSION:2.0
PRODID:-//Auctions-Estates v1//EN
BEGIN:VEVENT
DTSTAMP:20260421T144904Z
STATUS:CONFIRMED
UID:a68e5c0b7663aee90a77591c4c6ae3e0@Auctions-Estates
DTSTART:20260430T190000Z
DTEND:20260430T200000Z
SUMMARY:Online Auction - Sundgren Realty
DESCRIPTION:Tractor, Mower, Boat, Shop Tools & More
  https://www.auctions-estates.com/calendar/sundgren/70373/
LOCATION:Fall River, KS
TRANSP:OPAQUE
END:VEVENT
END:VCALENDAR