BEGIN:VCALENDAR
VERSION:2.0
PRODID:-//Auctions-Estates v1//EN
BEGIN:VEVENT
DTSTAMP:20260421T131024Z
STATUS:CONFIRMED
UID:f7d2332d19f46fea80e142a4a26f38a2@Auctions-Estates
DTSTART:20260427T160000Z
DTEND:20260427T170000Z
SUMMARY:Online Auction - Theurer Auction/Realty
DESCRIPTION:Skid Loaders, Excavators, Attachments, Equipment, Storage
  Container (CIMU 1023666 & 1020034)
  https://www.auctions-estates.com/calendar/theurer/70374/
LOCATION:Oxford, KS
TRANSP:OPAQUE
END:VEVENT
END:VCALENDAR