BEGIN:VCALENDAR
VERSION:2.0
PRODID:-//Auctions-Estates v1//EN
BEGIN:VEVENT
DTSTAMP:20260421T124958Z
STATUS:CONFIRMED
UID:f60b766ab1a55e0362ba74c0f10de5d2@Auctions-Estates
DTSTART:20260512T160000Z
DTEND:20260512T170000Z
SUMMARY:Real Estate Auction - Theurer Auction/Realty
DESCRIPTION:Former Argonia Baptist Church, 201 W Garfield, Argonia | 4,200
  sqft Main Level & Basement | Large Corner Lot - Multi Use Building
  https://www.auctions-estates.com/calendar/theurer/70375/
LOCATION:201 W Garfield Argonia, KS
TRANSP:OPAQUE
END:VEVENT
END:VCALENDAR