BEGIN:VCALENDAR
VERSION:2.0
PRODID:-//Auctions-Estates v1//EN
BEGIN:VEVENT
DTSTAMP:20260421T162643Z
STATUS:CONFIRMED
UID:96d57baa1eb6f5a36fff277de28cd83f@Auctions-Estates
DTSTART:20260512T180000Z
DTEND:20260512T190000Z
SUMMARY:Online Auction - Theurer Auction/Realty
DESCRIPTION:Argonia Baptist Church Appliances, Furniture, Piano, Organs,
  Dishes, Pans
  https://www.auctions-estates.com/calendar/theurer/70376/
LOCATION:201 W Garfield Argonia, KS
TRANSP:OPAQUE
END:VEVENT
END:VCALENDAR