BEGIN:VCALENDAR
VERSION:2.0
PRODID:-//Auctions-Estates v1//EN
BEGIN:VEVENT
DTSTAMP:20260421T144826Z
STATUS:CONFIRMED
UID:86a25f40d5f2d5c1fd780f003ae7897a@Auctions-Estates
DTSTART:20260421T220000Z
DTEND:20260421T230000Z
SUMMARY:Coin Auction - Wiens Auction/Realty LLC
DESCRIPTION:4/21 Coin Collection
  https://www.auctions-estates.com/calendar/wiens/70377/
LOCATION:319 N Washington Ave Wellington, KS
TRANSP:OPAQUE
END:VEVENT
END:VCALENDAR