BEGIN:VCALENDAR
VERSION:2.0
PRODID:-//Auctions-Estates v1//EN
BEGIN:VEVENT
DTSTAMP:20260421T145130Z
STATUS:CONFIRMED
UID:d0beb15c0707cd374168f385f71643ba@Auctions-Estates
DTSTART:20260423T220000Z
DTEND:20260423T230000Z
SUMMARY:Online Auction - Wiens Auction/Realty LLC
DESCRIPTION:Large Moving/Downsizing Auction Near Wellington, KS
  https://www.auctions-estates.com/calendar/wiens/70378/
LOCATION:Wellington, KS
TRANSP:OPAQUE
END:VEVENT
END:VCALENDAR