BEGIN:VCALENDAR
VERSION:2.0
PRODID:-//Auctions-Estates v1//EN
BEGIN:VEVENT
DTSTAMP:20260421T145123Z
STATUS:CONFIRMED
UID:d04de6723c191ec0c02b4957aeae7636@Auctions-Estates
DTSTART:20260428T000000Z
DTEND:20260428T010000Z
SUMMARY:Online Auction - Wiens Auction/Realty LLC
DESCRIPTION:Dirt Bikes ~ 4 Wheeler ~ Pitching Machine
  https://www.auctions-estates.com/calendar/wiens/70379/
LOCATION:319 N Washington Ave Wellington, KS
TRANSP:OPAQUE
END:VEVENT
END:VCALENDAR