BEGIN:VCALENDAR
VERSION:2.0
PRODID:-//Auctions-Estates v1//EN
BEGIN:VEVENT
DTSTAMP:20260421T145016Z
STATUS:CONFIRMED
UID:a6761f69e9a0521ffc236f317eed04d4@Auctions-Estates
DTSTART:20260505T000000Z
DTEND:20260505T010000Z
SUMMARY:Online Auction - Wiens Auction/Realty LLC
DESCRIPTION:Marble Collection
  https://www.auctions-estates.com/calendar/wiens/70380/
LOCATION:319 N Washington Ave Wellington, KS
TRANSP:OPAQUE
END:VEVENT
END:VCALENDAR