BEGIN:VCALENDAR
VERSION:2.0
PRODID:-//Auctions-Estates v1//EN
BEGIN:VEVENT
DTSTAMP:20260422T154421Z
STATUS:CONFIRMED
UID:460baac0820fda5f3ecd495d1bf39757@Auctions-Estates
DTSTART:20260509T150000Z
DTEND:20260509T160000Z
SUMMARY:Estate Auction - Starling Auction Service
DESCRIPTION:Estate Auction of Mike and Bonnie Smith
  https://www.auctions-estates.com/calendar/starling/70382/
LOCATION:124 N Locust Ottawa, KS
TRANSP:OPAQUE
END:VEVENT
END:VCALENDAR