BEGIN:VCALENDAR
VERSION:2.0
PRODID:-//Auctions-Estates v1//EN
BEGIN:VEVENT
DTSTAMP:20260423T132907Z
STATUS:CONFIRMED
UID:ea2bbe35127d9c8467d452b5ccdd88e3@Auctions-Estates
DTSTART:20260509T150000Z
DTEND:20260509T160000Z
SUMMARY:Public Auction - Hamilton Auctions
DESCRIPTION:Pickups, Car, Skid Loader, Tractor, Tools, Golf Cart, Lawn
  Tractor, Household & Related
  https://www.auctions-estates.com/calendar/hamilton/70396/
LOCATION:2191 Idaho Rd Williamsburg, KS
TRANSP:OPAQUE
END:VEVENT
END:VCALENDAR