BEGIN:VCALENDAR
VERSION:2.0
PRODID:-//Auctions-Estates v1//EN
BEGIN:VEVENT
DTSTAMP:20260423T134428Z
STATUS:CONFIRMED
UID:d5e6ccb00061916b6cdda0364502ddfd@Auctions-Estates
DTSTART:20260502T130000Z
DTEND:20260502T140000Z
SUMMARY:Estate Sale - Moore Auction Service
DESCRIPTION:Lawn Items & Equipment, Military Collectibles, Antiques,
  Household Items, Shop Items, Miscellaneous
  https://www.auctions-estates.com/calendar/moore/70399/
LOCATION:17620 Millwood Rd Leavenworth, KS
TRANSP:OPAQUE
END:VEVENT
END:VCALENDAR