BEGIN:VCALENDAR
VERSION:2.0
PRODID:-//Auctions-Estates v1//EN
BEGIN:VEVENT
DTSTAMP:20260425T161537Z
STATUS:CONFIRMED
UID:773770599afd38238fc2bda98607c535@Auctions-Estates
DTSTART:20260514T150000Z
DTEND:20260514T160000Z
SUMMARY:Liquidation Auction - Smith Auctions
DESCRIPTION:Linen and Laundry Liquidation
  https://www.auctions-estates.com/calendar/brandonsmith/70403/
LOCATION:31st and Cherry Kansas City, MO
TRANSP:OPAQUE
END:VEVENT
END:VCALENDAR