BEGIN:VCALENDAR
VERSION:2.0
PRODID:-//Auctions-Estates v1//EN
BEGIN:VEVENT
DTSTAMP:20260425T161510Z
STATUS:CONFIRMED
UID:e0718b9a660b6c371df1f139daf132e4@Auctions-Estates
DTSTART:20260501T230000Z
DTEND:20260502T000000Z
SUMMARY:First Friday Consignment Auction - Smith Auctions
DESCRIPTION:First Friday Consignment Auction
  https://www.auctions-estates.com/calendar/brandonsmith/70404/
LOCATION:4267 Virginia Rd Wellsville, KS
TRANSP:OPAQUE
END:VEVENT
END:VCALENDAR