BEGIN:VCALENDAR
VERSION:2.0
PRODID:-//Auctions-Estates v1//EN
BEGIN:VEVENT
DTSTAMP:20260424T161840Z
STATUS:CONFIRMED
UID:244c72cc4a9695f682389b6a50227736@Auctions-Estates
DTSTART:20260507T123000Z
DTEND:20260507T133000Z
SUMMARY:Large Estate Tag Sale - Green Mountain Sales
DESCRIPTION:Appliances & Furniture, Household, Yard & Garden, Meat
  Processing Equipment, Antiques & Collectibles, Portable Building, Models &
  More, Hand & Power Tools, Old Machinery & Junk Iron, Combine, Farm
  Machinery & Equipment, John Deere Tractor
  https://www.auctions-estates.com/calendar/greenmountain/70409/
LOCATION:17654 Coffin Rd Leavenworth, KS
TRANSP:OPAQUE
END:VEVENT
END:VCALENDAR