BEGIN:VCALENDAR
VERSION:2.0
PRODID:-//Auctions-Estates v1//EN
BEGIN:VEVENT
DTSTAMP:20260424T142818Z
STATUS:CONFIRMED
UID:f5fad1fc2b87e3466a650742bf849a87@Auctions-Estates
DTSTART:20260518T230000Z
DTEND:20260519T000000Z
SUMMARY:Real Estate Auction - Sudduth Realty
DESCRIPTION:NO RESERVE: Augusta Historic Giant on ¾ Acre – Rare
  Redevelopment Opportunity
  https://www.auctions-estates.com/calendar/sudduth/70413/
LOCATION:619 Santa Fe St Augusta, KS
TRANSP:OPAQUE
END:VEVENT
END:VCALENDAR