BEGIN:VCALENDAR
VERSION:2.0
PRODID:-//Auctions-Estates v1//EN
BEGIN:VEVENT
DTSTAMP:20260424T162213Z
STATUS:CONFIRMED
UID:e5bdf6836971e3e25bb6e327426a53f0@Auctions-Estates
DTSTART:20260521T170000Z
DTEND:20260521T180000Z
SUMMARY:Land Auction - Harris Real Estate & Auction, LLC
DESCRIPTION:2 Tracts in Jackson County
  https://www.auctions-estates.com/calendar/harris/70415/
LOCATION:13788 K 16 Holton, KS
TRANSP:OPAQUE
END:VEVENT
END:VCALENDAR