BEGIN:VCALENDAR
VERSION:2.0
PRODID:-//Auctions-Estates v1//EN
BEGIN:VEVENT
DTSTAMP:20260424T161948Z
STATUS:CONFIRMED
UID:f923304657985ce757e282debcd7dd32@Auctions-Estates
DTSTART:20260602T160000Z
DTEND:20260602T170000Z
SUMMARY:Real Estate Auction - Gene Francis & Associates
DESCRIPTION:150± Acres, Reno County, KS
  https://www.auctions-estates.com/calendar/genefrancis/70425/
LOCATION:101 W Ave C South Hutchinson, KS
TRANSP:OPAQUE
END:VEVENT
END:VCALENDAR