BEGIN:VCALENDAR
VERSION:2.0
PRODID:-//Auctions-Estates v1//EN
BEGIN:VEVENT
DTSTAMP:20260425T141658Z
STATUS:CONFIRMED
UID:e22011d4e9205ac6888aa1609d4b073b@Auctions-Estates
DTSTART:20260501T000000Z
DTEND:20260501T010000Z
SUMMARY:Online Brown Farm Auction - JBR
DESCRIPTION:John Deere 5400 4wd Tractor with 540 loader; John Deere zero
  turn mower; Large John Deere collector train sets, tractors and other
  items; Massive California King bedroom suite; washer and dryer, household
  items; doll collection; stein collection; tools, shop equipment,
  refrigerator and MUCH MORE!!!
  https://www.auctions-estates.com/calendar/jbr/70429/
LOCATION:2105 Thompsonville Rd Perry, KS
TRANSP:OPAQUE
END:VEVENT
END:VCALENDAR